BEGIN:VCALENDAR
VERSION:2.0
PRODID:-//Knights of Columbus Council 5780 - ECPv6.15.20//NONSGML v1.0//EN
CALSCALE:GREGORIAN
METHOD:PUBLISH
X-ORIGINAL-URL:https://kofc5780.com
X-WR-CALDESC:Events for Knights of Columbus Council 5780
REFRESH-INTERVAL;VALUE=DURATION:PT1H
X-Robots-Tag:noindex
X-PUBLISHED-TTL:PT1H
BEGIN:VTIMEZONE
TZID:America/New_York
BEGIN:DAYLIGHT
TZOFFSETFROM:-0500
TZOFFSETTO:-0400
TZNAME:EDT
DTSTART:20240310T070000
END:DAYLIGHT
BEGIN:STANDARD
TZOFFSETFROM:-0400
TZOFFSETTO:-0500
TZNAME:EST
DTSTART:20241103T060000
END:STANDARD
BEGIN:DAYLIGHT
TZOFFSETFROM:-0500
TZOFFSETTO:-0400
TZNAME:EDT
DTSTART:20250309T070000
END:DAYLIGHT
BEGIN:STANDARD
TZOFFSETFROM:-0400
TZOFFSETTO:-0500
TZNAME:EST
DTSTART:20251102T060000
END:STANDARD
BEGIN:DAYLIGHT
TZOFFSETFROM:-0500
TZOFFSETTO:-0400
TZNAME:EDT
DTSTART:20260308T070000
END:DAYLIGHT
BEGIN:STANDARD
TZOFFSETFROM:-0400
TZOFFSETTO:-0500
TZNAME:EST
DTSTART:20261101T060000
END:STANDARD
END:VTIMEZONE
BEGIN:VEVENT
DTSTART;TZID=America/New_York:20250508T190000
DTEND;TZID=America/New_York:20250508T203000
DTSTAMP:20260421T071814
CREATED:20250104T210342Z
LAST-MODIFIED:20250104T210342Z
UID:675-1746730800-1746736200@kofc5780.com
SUMMARY:Meeting Knights of Columbus Sacred Heart Council 5780
DESCRIPTION:
URL:https://kofc5780.com/event/meeting-knights-of-columbus-sacred-heart-council-5780/
LOCATION:St Margaret Church\, 24 Academy Street\, Madison\, CT\, 06443\, United States
END:VEVENT
BEGIN:VEVENT
DTSTART;TZID=America/New_York:20250521T190000
DTEND;TZID=America/New_York:20250521T200000
DTSTAMP:20260421T071814
CREATED:20250104T212900Z
LAST-MODIFIED:20250109T144837Z
UID:706-1747854000-1747857600@kofc5780.com
SUMMARY:K of C Church Rosary Recitation
DESCRIPTION:
URL:https://kofc5780.com/event/k-of-c-church-rosary-5/
LOCATION:St Margaret Church\, 24 Academy Street\, Madison\, CT\, 06443\, United States
ATTACH;FMTTYPE=image/jpeg:https://kofc5780.com/wp-content/uploads/2025/01/RosaryBeads.jpg
END:VEVENT
BEGIN:VEVENT
DTSTART;TZID=America/New_York:20250526T080000
DTEND;TZID=America/New_York:20250526T170000
DTSTAMP:20260421T071814
CREATED:20250320T185346Z
LAST-MODIFIED:20250320T185346Z
UID:937-1748246400-1748278800@kofc5780.com
SUMMARY:Operation American Soldier Fund Raiser
DESCRIPTION:Fellow Knights – we are raising money for the Operation American Soldier\, OAS.  The program has been a great success and volunteering to help collect donations is greatly appreciated. \nYou can read more about what OAS accomplished here.
URL:https://kofc5780.com/event/operation-american-soldier-fund-raiser/
LOCATION:CT
END:VEVENT
END:VCALENDAR