BEGIN:VCALENDAR
VERSION:2.0
PRODID:-//Knights of Columbus Council 5780 - ECPv6.15.20//NONSGML v1.0//EN
CALSCALE:GREGORIAN
METHOD:PUBLISH
X-ORIGINAL-URL:https://kofc5780.com
X-WR-CALDESC:Events for Knights of Columbus Council 5780
REFRESH-INTERVAL;VALUE=DURATION:PT1H
X-Robots-Tag:noindex
X-PUBLISHED-TTL:PT1H
BEGIN:VTIMEZONE
TZID:America/New_York
BEGIN:DAYLIGHT
TZOFFSETFROM:-0500
TZOFFSETTO:-0400
TZNAME:EDT
DTSTART:20240310T070000
END:DAYLIGHT
BEGIN:STANDARD
TZOFFSETFROM:-0400
TZOFFSETTO:-0500
TZNAME:EST
DTSTART:20241103T060000
END:STANDARD
BEGIN:DAYLIGHT
TZOFFSETFROM:-0500
TZOFFSETTO:-0400
TZNAME:EDT
DTSTART:20250309T070000
END:DAYLIGHT
BEGIN:STANDARD
TZOFFSETFROM:-0400
TZOFFSETTO:-0500
TZNAME:EST
DTSTART:20251102T060000
END:STANDARD
BEGIN:DAYLIGHT
TZOFFSETFROM:-0500
TZOFFSETTO:-0400
TZNAME:EDT
DTSTART:20260308T070000
END:DAYLIGHT
BEGIN:STANDARD
TZOFFSETFROM:-0400
TZOFFSETTO:-0500
TZNAME:EST
DTSTART:20261101T060000
END:STANDARD
END:VTIMEZONE
BEGIN:VEVENT
DTSTART;TZID=America/New_York:20250313T190000
DTEND;TZID=America/New_York:20250313T203000
DTSTAMP:20260421T095745
CREATED:20250104T210439Z
LAST-MODIFIED:20250104T210625Z
UID:673-1741892400-1741897800@kofc5780.com
SUMMARY:Meeting Knights of Columbus Sacred Heart Council 5780
DESCRIPTION:
URL:https://kofc5780.com/event/meeting-knights-of-columbus-sacred-heart-council-5780-3/
LOCATION:St Margaret Church\, 24 Academy Street\, Madison\, CT\, 06443\, United States
END:VEVENT
BEGIN:VEVENT
DTSTART;TZID=America/New_York:20250315T180000
DTEND;TZID=America/New_York:20250315T230000
DTSTAMP:20260421T095745
CREATED:20241212T195639Z
LAST-MODIFIED:20250227T221359Z
UID:558-1742061600-1742079600@kofc5780.com
SUMMARY:K of C St. Patrick's Dinner Dance
DESCRIPTION:Once again this year\, the Knights of Columbus will be hosting their annual St. Patrick’s Day Dinner Dance on Saturday\, March 15th\, from 6-10PM\, in the St. Margaret Church Hall. \n  \nA traditional corned beef and cabbage dinner\, provided by What’s Cookin’\, will be served along with Irish soda bread and dessert. \nComplimentary wine will be provided\, and attendees can bring their own alcoholic beverages. \nSt. Margaret’s own Chris Arrandale will be the DJ and set the tone for the evening with lively Irish music. \n  \nTickets are $50 per person and full tables may be reserved.  Ticket sales are available at the link below\, and after all Masses in the Church Hall starting the weekend of February 22-23. \nPlease join us for a fun evening with friends while contributing to the Knights’ many charitable causes\, including its annual scholarship program! \n  \nLink to online ticket purchase and event sign up \nLink to event flyer
URL:https://kofc5780.com/event/k-of-c-st-patricks-dinner-dance/
LOCATION:CT
END:VEVENT
BEGIN:VEVENT
DTSTART;TZID=America/New_York:20250319T120000
DTEND;TZID=America/New_York:20250319T150000
DTSTAMP:20260421T095745
CREATED:20250109T003237Z
LAST-MODIFIED:20250109T003321Z
UID:785-1742385600-1742396400@kofc5780.com
SUMMARY:Connecticut March for Life 2025
DESCRIPTION:There will be a bus provided by the Knights of Columbus for those interested in attending. \n  \nContact: \nGrand Knight Frank Connelly francismconnellyjr@gmail.com \nFaith Director Justin Murphy jmmurphy@outlook.com
URL:https://kofc5780.com/event/connecticut-march-for-life-2025/
LOCATION:CT State Capitol\, 210 Capitol Ave\, Hartford\, CT\, 06106\, United States
ATTACH;FMTTYPE=image/jpeg:https://kofc5780.com/wp-content/uploads/2025/01/MarchForLife2024.jpg
END:VEVENT
BEGIN:VEVENT
DTSTART;TZID=America/New_York:20250319T190000
DTEND;TZID=America/New_York:20250319T200000
DTSTAMP:20260421T095745
CREATED:20250104T212742Z
LAST-MODIFIED:20250212T234012Z
UID:708-1742410800-1742414400@kofc5780.com
SUMMARY:K of C Church Rosary Recitation
DESCRIPTION:
URL:https://kofc5780.com/event/k-of-c-church-rosary-3/
LOCATION:St Margaret Church\, 24 Academy Street\, Madison\, CT\, 06443\, United States
ATTACH;FMTTYPE=image/jpeg:https://kofc5780.com/wp-content/uploads/2025/01/RosaryBeads.jpg
ORGANIZER;CN="Robert Tafuri%2C MD Chairman%2C Monthly Rosary Initiative":MAILTO:yaledoc57@gmail.com
END:VEVENT
END:VCALENDAR