BEGIN:VCALENDAR
VERSION:2.0
PRODID:-//Knights of Columbus Council 5780 - ECPv6.15.20//NONSGML v1.0//EN
CALSCALE:GREGORIAN
METHOD:PUBLISH
X-WR-CALNAME:Knights of Columbus Council 5780
X-ORIGINAL-URL:https://kofc5780.com
X-WR-CALDESC:Events for Knights of Columbus Council 5780
REFRESH-INTERVAL;VALUE=DURATION:PT1H
X-Robots-Tag:noindex
X-PUBLISHED-TTL:PT1H
BEGIN:VTIMEZONE
TZID:America/New_York
BEGIN:DAYLIGHT
TZOFFSETFROM:-0500
TZOFFSETTO:-0400
TZNAME:EDT
DTSTART:20230312T070000
END:DAYLIGHT
BEGIN:STANDARD
TZOFFSETFROM:-0400
TZOFFSETTO:-0500
TZNAME:EST
DTSTART:20231105T060000
END:STANDARD
BEGIN:DAYLIGHT
TZOFFSETFROM:-0500
TZOFFSETTO:-0400
TZNAME:EDT
DTSTART:20240310T070000
END:DAYLIGHT
BEGIN:STANDARD
TZOFFSETFROM:-0400
TZOFFSETTO:-0500
TZNAME:EST
DTSTART:20241103T060000
END:STANDARD
BEGIN:DAYLIGHT
TZOFFSETFROM:-0500
TZOFFSETTO:-0400
TZNAME:EDT
DTSTART:20250309T070000
END:DAYLIGHT
BEGIN:STANDARD
TZOFFSETFROM:-0400
TZOFFSETTO:-0500
TZNAME:EST
DTSTART:20251102T060000
END:STANDARD
END:VTIMEZONE
BEGIN:VEVENT
DTSTART;VALUE=DATE:20241203
DTEND;VALUE=DATE:20241204
DTSTAMP:20260421T153452
CREATED:20241114T073632Z
LAST-MODIFIED:20241115T003102Z
UID:261-1733184000-1733270399@kofc5780.com
SUMMARY:Coats for Kids
DESCRIPTION:You can bring the gift of warmth to children in need this winter with a donation to Coats for Kids. Help us hit a goal of $500\,000 for Coats for Kids on Giving Tuesday\, Dec. 3! \nYou can make an early gift today and join the Giving Tuesday momentum! \nYour gift helps to ensure that children in need have coats during the coldest months of the year. Mark your calendars now and thank you in advance for your generosity! \n  \n 
URL:https://kofc5780.com/event/coats-for-kids/
LOCATION:CT
ATTACH;FMTTYPE=image/jpeg:https://kofc5780.com/wp-content/uploads/2024/11/coats-for-kids.jpg
END:VEVENT
BEGIN:VEVENT
DTSTART;TZID=America/New_York:20241207T170000
DTEND;TZID=America/New_York:20241207T190000
DTSTAMP:20260421T153452
CREATED:20241127T193800Z
LAST-MODIFIED:20241127T201113Z
UID:446-1733590800-1733598000@kofc5780.com
SUMMARY:Vigil Mass and Tree Lighting Ceremony
DESCRIPTION:Followed by the Children’s Christmas party in the parish hall\, \nMr and Mrs. Santa Claus (Brother Michael and wife Donna Doraz) will have gifts for children all families are invited.
URL:https://kofc5780.com/event/vigil-mass-and-tree-lighting-ceremony/
LOCATION:St Margaret Church\, 24 Academy Street\, Madison\, CT\, 06443\, United States
ATTACH;FMTTYPE=image/jpeg:https://kofc5780.com/wp-content/uploads/2024/11/st-margaret-front.jpg
END:VEVENT
BEGIN:VEVENT
DTSTART;TZID=America/New_York:20241211T190000
DTEND;TZID=America/New_York:20241211T200000
DTSTAMP:20260421T153452
CREATED:20241127T194719Z
LAST-MODIFIED:20241127T202655Z
UID:454-1733943600-1733947200@kofc5780.com
SUMMARY:Monthly Rosary
DESCRIPTION:This event is chaired by our Worthy Past Grand Knight Bob Tafuri and his wife Loretta. There will be a reception afterwards with a speaker\, Carol Falcigno Executive Director of St Gianna Pregnancy Support Center in New Haven. This will be a very appropriate program for Advent as preparation for the BIrth and Nativity of Jesus.
URL:https://kofc5780.com/event/monthly-rosary/
LOCATION:St Margaret Church\, 24 Academy Street\, Madison\, CT\, 06443\, United States
END:VEVENT
BEGIN:VEVENT
DTSTART;TZID=America/New_York:20241212T180000
DTEND;TZID=America/New_York:20241212T210000
DTSTAMP:20260421T153452
CREATED:20241118T215914Z
LAST-MODIFIED:20241127T203304Z
UID:325-1734026400-1734037200@kofc5780.com
SUMMARY:Council Christmas Party Cafe Allegre
DESCRIPTION:The New Haven Chorale with our own Sue Leonard and Mary Ann Connelly as part of the ensemble serenading us with Christmas music\, We also will have our Worthy Chaplain Father Dan and a few of our State Officers in attendance.\n\nPlease get your reservations in early by sending a check for $52 per person made out to Council 5780 and mailed to our Worthy Treasurer John Warfel at 59 Quail Run\, Madison\, CT 06443. The menu is attached\n\nI wish all of my brother knights a very blessed and warm Thanksgiving with your families. This is one of my favorite holidays as we gather our families around us and slow down long enough to really say grace and think about all of the graces and gifts our Lord has given us over this past year.\n\nMenu
URL:https://kofc5780.com/event/christmas-dinner/
LOCATION:Cafe Allegre\, 725 Boston Post Road\, Madison\, CT\, 06443\, United States
ATTACH;FMTTYPE=image/jpeg:https://kofc5780.com/wp-content/uploads/2024/11/CafeAllegre-Front.jpg
END:VEVENT
END:VCALENDAR